BEGIN:VCALENDAR
VERSION:2.0
PRODID:-//Site officiel de la ville d&#039;Artenay (45) - ECPv5.3.1.1//NONSGML v1.0//EN
CALSCALE:GREGORIAN
METHOD:PUBLISH
X-WR-CALNAME:Site officiel de la ville d&#039;Artenay (45)
X-ORIGINAL-URL:https://www.ville-artenay.fr
X-WR-CALDESC:évènements pour Site officiel de la ville d&#039;Artenay (45)
BEGIN:VTIMEZONE
TZID:Europe/Paris
BEGIN:DAYLIGHT
TZOFFSETFROM:+0100
TZOFFSETTO:+0200
TZNAME:CEST
DTSTART:20250330T010000
END:DAYLIGHT
BEGIN:STANDARD
TZOFFSETFROM:+0200
TZOFFSETTO:+0100
TZNAME:CET
DTSTART:20251026T010000
END:STANDARD
END:VTIMEZONE
BEGIN:VEVENT
DTSTART;TZID=Europe/Paris:20251012T160000
DTEND;TZID=Europe/Paris:20251012T160000
DTSTAMP:20260420T163421
CREATED:20251006T084528Z
LAST-MODIFIED:20251006T084528Z
UID:7658-1760284800-1760284800@www.ville-artenay.fr
SUMMARY:Concert Symphonique à Artenay
DESCRIPTION:
URL:https://www.ville-artenay.fr/evenement/concert-symphonique-a-artenay/
LOCATION:Église Saint Victor\, Place de l'Église\, ARTENAY\, 45410\, France
CATEGORIES:Culturels
ATTACH;FMTTYPE=image/jpeg:https://www.ville-artenay.fr/wp-content/uploads/2025/10/41edccf33d5358b737b22eb884f10d68.jpg
END:VEVENT
END:VCALENDAR