BEGIN:VCALENDAR
VERSION:2.0
PRODID:-//Site officiel de la ville d&#039;Artenay (45) - ECPv5.3.1.1//NONSGML v1.0//EN
CALSCALE:GREGORIAN
METHOD:PUBLISH
X-WR-CALNAME:Site officiel de la ville d&#039;Artenay (45)
X-ORIGINAL-URL:https://www.ville-artenay.fr
X-WR-CALDESC:évènements pour Site officiel de la ville d&#039;Artenay (45)
BEGIN:VTIMEZONE
TZID:Europe/Paris
BEGIN:DAYLIGHT
TZOFFSETFROM:+0100
TZOFFSETTO:+0200
TZNAME:CEST
DTSTART:20250330T010000
END:DAYLIGHT
BEGIN:STANDARD
TZOFFSETFROM:+0200
TZOFFSETTO:+0100
TZNAME:CET
DTSTART:20251026T010000
END:STANDARD
END:VTIMEZONE
BEGIN:VEVENT
DTSTART;TZID=Europe/Paris:20251012T093000
DTEND;TZID=Europe/Paris:20251012T173000
DTSTAMP:20260420T150907
CREATED:20251006T083943Z
LAST-MODIFIED:20251013T091635Z
UID:7655-1760261400-1760290200@www.ville-artenay.fr
SUMMARY:Marché des producteurs
DESCRIPTION:
URL:https://www.ville-artenay.fr/evenement/marche-des-producteurs/
LOCATION:Salle des fêtes\, 15 rue d'Orléans\, Artenay\, 45410\, France
ATTACH;FMTTYPE=image/jpeg:https://www.ville-artenay.fr/wp-content/uploads/2025/10/548057055_1641860560588335_5217980713959266779_n.jpg
END:VEVENT
END:VCALENDAR